BEGIN:VCALENDAR
VERSION:2.0
PRODID:-//Learning Development Consortium - ECPv6.15.20//NONSGML v1.0//EN
CALSCALE:GREGORIAN
METHOD:PUBLISH
X-ORIGINAL-URL:https://ldconsortium.com
X-WR-CALDESC:Events for Learning Development Consortium
REFRESH-INTERVAL;VALUE=DURATION:PT1H
X-Robots-Tag:noindex
X-PUBLISHED-TTL:PT1H
BEGIN:VTIMEZONE
TZID:UTC
BEGIN:STANDARD
TZOFFSETFROM:+0000
TZOFFSETTO:+0000
TZNAME:UTC
DTSTART:20230101T000000
END:STANDARD
END:VTIMEZONE
BEGIN:VEVENT
DTSTART;TZID=UTC:20241203T090000
DTEND;TZID=UTC:20241203T170000
DTSTAMP:20260423T030428
CREATED:20240114T144855Z
LAST-MODIFIED:20240114T144953Z
UID:8518-1733216400-1733245200@ldconsortium.com
SUMMARY:Best Practice Visit - Safety in the workplace
DESCRIPTION:Areas to be discussed and developed:\n• Process\, policies\, and procedures\n• Creating a positive safety culture\n• Safety and effective onboarding\n• Safety champions and safety representatives\n• Safety audits\n• Ergonomics/Musculosketal\n• Manual handling\n• Effective training and development\n• Behaviour and human error\n• Reward and recognition \nBPG Lead: Colin Adderley\, LDC Delivery Team
URL:https://ldconsortium.com/event/__trashed/
END:VEVENT
END:VCALENDAR