BEGIN:VCALENDAR
VERSION:2.0
PRODID:-//Learning Development Consortium - ECPv6.15.20//NONSGML v1.0//EN
CALSCALE:GREGORIAN
METHOD:PUBLISH
X-ORIGINAL-URL:https://ldconsortium.com
X-WR-CALDESC:Events for Learning Development Consortium
REFRESH-INTERVAL;VALUE=DURATION:PT1H
X-Robots-Tag:noindex
X-PUBLISHED-TTL:PT1H
BEGIN:VTIMEZONE
TZID:UTC
BEGIN:STANDARD
TZOFFSETFROM:+0000
TZOFFSETTO:+0000
TZNAME:UTC
DTSTART:20230101T000000
END:STANDARD
END:VTIMEZONE
BEGIN:VEVENT
DTSTART;VALUE=DATE:20241106
DTEND;VALUE=DATE:20241107
DTSTAMP:20260424T073011
CREATED:20240310T203152Z
LAST-MODIFIED:20240310T203152Z
UID:9805-1730851200-1730937599@ldconsortium.com
SUMMARY:Praise & Recognition
DESCRIPTION:
URL:https://ldconsortium.com/event/praise-recognition/
END:VEVENT
BEGIN:VEVENT
DTSTART;VALUE=DATE:20241113
DTEND;VALUE=DATE:20241115
DTSTAMP:20260424T073011
CREATED:20240812T123626Z
LAST-MODIFIED:20240812T123626Z
UID:13422-1731456000-1731628799@ldconsortium.com
SUMMARY:FLL Development Experience
DESCRIPTION:Kaizen event \n  \nOUR FIRST LINE LEADER DEVELOPMENT EXPERIENCE\nThe design and delivery of the 9-day experience is driven by our 12 best practice indicators.\n• The LDC team will support with the selection of individuals\n• We deliver the 9 days with a maximum of 8 people\n• Travelling and some overnight stays might be required\n• The cost for each participant is £1800.00 – Payment will be required 30 days in advance of the experience starting.\n• We’ll facilitate discussions with previous participants\n• We hold a briefing session for sponsors and line managers before the experience starts\n• The final day involves a team presentation to sponsors and line managers – outcomes and recommendations\n• Dates are available on the LDC website\n• On completion of the 9-day experience participants will then become members of the LDC FLL Development Community. \nKey Points of the experience:\n• The experience will meet the needs of both aspiring and existing FLL\n• There will be a minimum of 4 benchmarking visits over the 9 days\n• The LDC delivery team will hold discussions with all the participants prior to the start of each experience\n• A more detailed schedule will be made available well in advance of the experience starting\n• Evidence suggests 2 participants from the same organisation works effectively – on each experience\n• Travelling and some overnight stays will be involved
URL:https://ldconsortium.com/event/fll-development-experience-16/
END:VEVENT
BEGIN:VEVENT
DTSTART;TZID=UTC:20241119T090000
DTEND;TZID=UTC:20241119T170000
DTSTAMP:20260424T073011
CREATED:20240114T143302Z
LAST-MODIFIED:20240114T143302Z
UID:8509-1732006800-1732035600@ldconsortium.com
SUMMARY:Best Practice Visit - Employers brand\, selection\, and onboarding of new employees
DESCRIPTION:Areas to be discussed and developed:\n• Developing an appealing employers brand – attracting talent into the organisation.\n• Applicant tracking process\n• Recruitment open days\n• Thought leadership around the selection process for new employees.\n• A cultural approach to the onboarding of new employees.\n• Internal support and development\n• Building a collaborative model of best practice \nBPG Lead: Graham Scott\, Founder & Director\, The Learning & Development Consortium
URL:https://ldconsortium.com/event/best-practice-visit-employers-brand-selection-and-onboarding-of-new-employees-4/
END:VEVENT
BEGIN:VEVENT
DTSTART;TZID=UTC:20241122T090000
DTEND;TZID=UTC:20241122T170000
DTSTAMP:20260424T073011
CREATED:20240128T193725Z
LAST-MODIFIED:20240128T194047Z
UID:8853-1732266000-1732294800@ldconsortium.com
SUMMARY:Best Practice Visit - Coaching & Mentoring
DESCRIPTION:Areas to be discussed and developed:\n• Contracting\, and approaches to co-creation of coaching and mentoring agreements.\n• Coaching and mentoring tools and frameworks\n• Building a ‘thinking environment’\n• Coaching and mentoring to support wellbeing\n• Emerging approaches to coaching\n• Coaching the Team\n• The Coaching Leadership style\n• Developing a coaching process\n• Evaluating the success of coaching and mentoring \nBPG Lead: Alex Firmin\, MSC Ed\, MSC Psychology
URL:https://ldconsortium.com/event/best-practice-visit-coaching-mentoring-4/
END:VEVENT
BEGIN:VEVENT
DTSTART;VALUE=DATE:20241126
DTEND;VALUE=DATE:20241127
DTSTAMP:20260424T073011
CREATED:20240812T123808Z
LAST-MODIFIED:20240812T123808Z
UID:13424-1732579200-1732665599@ldconsortium.com
SUMMARY:FLL Development Experience
DESCRIPTION:Preparation for final presentation \n  \nOUR FIRST LINE LEADER DEVELOPMENT EXPERIENCE\nThe design and delivery of the 9-day experience is driven by our 12 best practice indicators.\n• The LDC team will support with the selection of individuals\n• We deliver the 9 days with a maximum of 8 people\n• Travelling and some overnight stays might be required\n• The cost for each participant is £1800.00 – Payment will be required 30 days in advance of the experience starting.\n• We’ll facilitate discussions with previous participants\n• We hold a briefing session for sponsors and line managers before the experience starts\n• The final day involves a team presentation to sponsors and line managers – outcomes and recommendations\n• Dates are available on the LDC website\n• On completion of the 9-day experience participants will then become members of the LDC FLL Development Community. \nKey Points of the experience:\n• The experience will meet the needs of both aspiring and existing FLL\n• There will be a minimum of 4 benchmarking visits over the 9 days\n• The LDC delivery team will hold discussions with all the participants prior to the start of each experience\n• A more detailed schedule will be made available well in advance of the experience starting\n• Evidence suggests 2 participants from the same organisation works effectively – on each experience\n• Travelling and some overnight stays will be involved
URL:https://ldconsortium.com/event/fll-development-experience-17/
END:VEVENT
BEGIN:VEVENT
DTSTART;VALUE=DATE:20241126
DTEND;VALUE=DATE:20241128
DTSTAMP:20260424T073011
CREATED:20240114T140507Z
LAST-MODIFIED:20240114T140507Z
UID:8487-1732579200-1732751999@ldconsortium.com
SUMMARY:LDC Annual Gathering
DESCRIPTION:LDC Annual Gathering – review of 2024 and looking ahead to 2025.
URL:https://ldconsortium.com/event/ldc-annual-gathering/
END:VEVENT
END:VCALENDAR